BEGIN:VCALENDAR
VERSION:2.0
PRODID:-//West Virginia Department of Education - ECPv5.4.0//NONSGML v1.0//EN
CALSCALE:GREGORIAN
METHOD:PUBLISH
X-WR-CALNAME:West Virginia Department of Education
X-ORIGINAL-URL:https://wvde.us
X-WR-CALDESC:Events for West Virginia Department of Education
BEGIN:VTIMEZONE
TZID:America/New_York
BEGIN:DAYLIGHT
TZOFFSETFROM:-0500
TZOFFSETTO:-0400
TZNAME:EDT
DTSTART:20210314T070000
END:DAYLIGHT
BEGIN:STANDARD
TZOFFSETFROM:-0400
TZOFFSETTO:-0500
TZNAME:EST
DTSTART:20211107T060000
END:STANDARD
END:VTIMEZONE
BEGIN:VEVENT
DTSTART;TZID=America/New_York:20210415T090000
DTEND;TZID=America/New_York:20210415T090000
DTSTAMP:20210502T150432
CREATED:20200817T195041Z
LAST-MODIFIED:20210319T131001Z
UID:80602-1618477200-1618477200@wvde.us
SUMMARY:West Virginia Board of Education Meeting - 9:00 a.m. - Charleston
DESCRIPTION:
URL:https://wvde.us/event/west-virginia-board-of-education-meeting-tentative-charleston-8/
CATEGORIES:State Board of Education
END:VEVENT
END:VCALENDAR